BEGIN:VCALENDAR
VERSION:2.0
CALSCALE:GREGORIAN
PRODID:adamgibbons/ics
METHOD:PUBLISH
X-PUBLISHED-TTL:PT1H
BEGIN:VEVENT
UID:123@bootblack.events
SUMMARY:Bootblack Stand @ Glasgow Leatherdykes Pop-up Bar Night
DTSTAMP:20260424T180224Z
DTSTART:20250806T170000Z
URL:https://bootblack.events/event/bootblack-stand-glasgow-leatherdykes-pop
	-up-bar-night
GEO:55.8609599;-4.2561361
LOCATION:Game Over - Drury St\, Glasgow G2 5AA
STATUS:CONFIRMED
CATEGORIES:UK,Bootblack Stand,Glasgow
END:VEVENT
END:VCALENDAR
